BEGIN:VCALENDAR
VERSION:2.0
PRODID:-//Society for the Preservation of Dixieland Jazz - ECPv6.15.20//NONSGML v1.0//EN
CALSCALE:GREGORIAN
METHOD:PUBLISH
X-WR-CALNAME:Society for the Preservation of Dixieland Jazz
X-ORIGINAL-URL:http://spdj.org
X-WR-CALDESC:Events for Society for the Preservation of Dixieland Jazz
REFRESH-INTERVAL;VALUE=DURATION:PT1H
X-Robots-Tag:noindex
X-PUBLISHED-TTL:PT1H
BEGIN:VTIMEZONE
TZID:America/Los_Angeles
BEGIN:DAYLIGHT
TZOFFSETFROM:-0800
TZOFFSETTO:-0700
TZNAME:PDT
DTSTART:20230312T100000
END:DAYLIGHT
BEGIN:STANDARD
TZOFFSETFROM:-0700
TZOFFSETTO:-0800
TZNAME:PST
DTSTART:20231105T090000
END:STANDARD
BEGIN:DAYLIGHT
TZOFFSETFROM:-0800
TZOFFSETTO:-0700
TZNAME:PDT
DTSTART:20240310T100000
END:DAYLIGHT
BEGIN:STANDARD
TZOFFSETFROM:-0700
TZOFFSETTO:-0800
TZNAME:PST
DTSTART:20241103T090000
END:STANDARD
BEGIN:DAYLIGHT
TZOFFSETFROM:-0800
TZOFFSETTO:-0700
TZNAME:PDT
DTSTART:20250309T100000
END:DAYLIGHT
BEGIN:STANDARD
TZOFFSETFROM:-0700
TZOFFSETTO:-0800
TZNAME:PST
DTSTART:20251102T090000
END:STANDARD
END:VTIMEZONE
BEGIN:VEVENT
DTSTART;TZID=America/Los_Angeles:20240428T130000
DTEND;TZID=America/Los_Angeles:20240428T170000
DTSTAMP:20260425T212158
CREATED:20240414T155402Z
LAST-MODIFIED:20240414T155402Z
UID:26411-1714309200-1714323600@spdj.org
SUMMARY:Swingsations
DESCRIPTION:Society for the Preservation of Dixieland Jazz is very excited to announce our feature band for April will be the the Swingsations\, 28 April 2024! Local musicians play various sets between 1:00 and 3:00 pm; feature band plays an hour set\, and local musicians again take the stage until 5:00 pm. If you are a musician bring your instrument\, dancers bring your dancing shoes\, music lovers bring your happy ears!!
URL:http://spdj.org/index.php/event/swingsations/
LOCATION:arcadia elks lodge\, 27 W Huntington Dr\, Arcadia\, CA\, 91007\, United States
END:VEVENT
END:VCALENDAR