BEGIN:VCALENDAR
VERSION:2.0
PRODID:-//Society for the Preservation of Dixieland Jazz - ECPv6.15.20//NONSGML v1.0//EN
CALSCALE:GREGORIAN
METHOD:PUBLISH
X-ORIGINAL-URL:http://spdj.org
X-WR-CALDESC:Events for Society for the Preservation of Dixieland Jazz
REFRESH-INTERVAL;VALUE=DURATION:PT1H
X-Robots-Tag:noindex
X-PUBLISHED-TTL:PT1H
BEGIN:VTIMEZONE
TZID:America/Los_Angeles
BEGIN:DAYLIGHT
TZOFFSETFROM:-0800
TZOFFSETTO:-0700
TZNAME:PDT
DTSTART:20230312T100000
END:DAYLIGHT
BEGIN:STANDARD
TZOFFSETFROM:-0700
TZOFFSETTO:-0800
TZNAME:PST
DTSTART:20231105T090000
END:STANDARD
BEGIN:DAYLIGHT
TZOFFSETFROM:-0800
TZOFFSETTO:-0700
TZNAME:PDT
DTSTART:20240310T100000
END:DAYLIGHT
BEGIN:STANDARD
TZOFFSETFROM:-0700
TZOFFSETTO:-0800
TZNAME:PST
DTSTART:20241103T090000
END:STANDARD
BEGIN:DAYLIGHT
TZOFFSETFROM:-0800
TZOFFSETTO:-0700
TZNAME:PDT
DTSTART:20250309T100000
END:DAYLIGHT
BEGIN:STANDARD
TZOFFSETFROM:-0700
TZOFFSETTO:-0800
TZNAME:PST
DTSTART:20251102T090000
END:STANDARD
END:VTIMEZONE
BEGIN:VEVENT
DTSTART;TZID=America/Los_Angeles:20240922T130000
DTEND;TZID=America/Los_Angeles:20240922T170000
DTSTAMP:20260425T150750
CREATED:20240830T182529Z
LAST-MODIFIED:20240907T021921Z
UID:26456-1727010000-1727024400@spdj.org
SUMMARY:Jonathan Stout and his Campus 5
DESCRIPTION:  \n\n\n\n\n\n\n\nSociety for the Preservation of Dixieland Jazz is excited to announce that our ‘2nd Line on High’ 2024 Scholarship recipients will be providing a mini-concert to showcase what they learned at jazz camp this year\, and will be followed by Jonathan Stout and his Campus 5!  Our September ‘2nd Line on High’ fundraising event will help to raise scholarship and travel funds to send young musicians (ages 12-20) to the Teagarden Summer Jazz Camp in Sacramento in 2025. \nWe meet at Arcadia Elks Lodge\, 27 W Huntington\, in Arcadia between 1:00 and 5:00. Local musicians play sets between 1:00 and 3:00\, feature band takes the stage at 3:00 and local musicians finish out the day until 5:00. Door admission is $10 for members/$15 for nonmembers. Hope to see you there! We have a wooden dance floor\, a raffle\, and snacks and drinks are available for purchase. See you there!
URL:http://spdj.org/index.php/event/jonathan-stout-and-his-campus-5/
LOCATION:arcadia elks lodge\, 27 W Huntington Dr\, Arcadia\, CA\, 91007\, United States
END:VEVENT
END:VCALENDAR