BEGIN:VCALENDAR
VERSION:2.0
PRODID:-//Society for the Preservation of Dixieland Jazz - ECPv6.15.20//NONSGML v1.0//EN
CALSCALE:GREGORIAN
METHOD:PUBLISH
X-WR-CALNAME:Society for the Preservation of Dixieland Jazz
X-ORIGINAL-URL:http://spdj.org
X-WR-CALDESC:Events for Society for the Preservation of Dixieland Jazz
REFRESH-INTERVAL;VALUE=DURATION:PT1H
X-Robots-Tag:noindex
X-PUBLISHED-TTL:PT1H
BEGIN:VTIMEZONE
TZID:America/Los_Angeles
BEGIN:DAYLIGHT
TZOFFSETFROM:-0800
TZOFFSETTO:-0700
TZNAME:PDT
DTSTART:20240310T100000
END:DAYLIGHT
BEGIN:STANDARD
TZOFFSETFROM:-0700
TZOFFSETTO:-0800
TZNAME:PST
DTSTART:20241103T090000
END:STANDARD
BEGIN:DAYLIGHT
TZOFFSETFROM:-0800
TZOFFSETTO:-0700
TZNAME:PDT
DTSTART:20250309T100000
END:DAYLIGHT
BEGIN:STANDARD
TZOFFSETFROM:-0700
TZOFFSETTO:-0800
TZNAME:PST
DTSTART:20251102T090000
END:STANDARD
BEGIN:DAYLIGHT
TZOFFSETFROM:-0800
TZOFFSETTO:-0700
TZNAME:PDT
DTSTART:20260308T100000
END:DAYLIGHT
BEGIN:STANDARD
TZOFFSETFROM:-0700
TZOFFSETTO:-0800
TZNAME:PST
DTSTART:20261101T090000
END:STANDARD
END:VTIMEZONE
BEGIN:VEVENT
DTSTART;TZID=America/Los_Angeles:20250525T130000
DTEND;TZID=America/Los_Angeles:20250525T170000
DTSTAMP:20260425T032026
CREATED:20250505T013936Z
LAST-MODIFIED:20250505T013936Z
UID:26573-1748178000-1748192400@spdj.org
SUMMARY:Ginger Pauley and the Hoosier Daddys
DESCRIPTION:The Society for the Preservation of Dixieland Jazz proudly presents Ginger Pauley & the Hoosier Daddys May 25\, 2025.  Music starts at 1\, Ginger takes the stage at 3\, and the music continues until 5.  Door admission is $15/members\, $20/nonmembers.  Bring your dancing shoes! \n 
URL:http://spdj.org/index.php/event/ginger-pauley-and-the-hoosier-daddys-2/
LOCATION:arcadia elks lodge\, 27 W Huntington Dr\, Arcadia\, CA\, 91007\, United States
END:VEVENT
END:VCALENDAR