BEGIN:VCALENDAR
VERSION:2.0
PRODID:-//Society for the Preservation of Dixieland Jazz - ECPv6.15.20//NONSGML v1.0//EN
CALSCALE:GREGORIAN
METHOD:PUBLISH
X-WR-CALNAME:Society for the Preservation of Dixieland Jazz
X-ORIGINAL-URL:http://spdj.org
X-WR-CALDESC:Events for Society for the Preservation of Dixieland Jazz
REFRESH-INTERVAL;VALUE=DURATION:PT1H
X-Robots-Tag:noindex
X-PUBLISHED-TTL:PT1H
BEGIN:VTIMEZONE
TZID:America/Los_Angeles
BEGIN:DAYLIGHT
TZOFFSETFROM:-0800
TZOFFSETTO:-0700
TZNAME:PDT
DTSTART:20190310T100000
END:DAYLIGHT
BEGIN:STANDARD
TZOFFSETFROM:-0700
TZOFFSETTO:-0800
TZNAME:PST
DTSTART:20191103T090000
END:STANDARD
BEGIN:DAYLIGHT
TZOFFSETFROM:-0800
TZOFFSETTO:-0700
TZNAME:PDT
DTSTART:20200308T100000
END:DAYLIGHT
BEGIN:STANDARD
TZOFFSETFROM:-0700
TZOFFSETTO:-0800
TZNAME:PST
DTSTART:20201101T090000
END:STANDARD
BEGIN:DAYLIGHT
TZOFFSETFROM:-0800
TZOFFSETTO:-0700
TZNAME:PDT
DTSTART:20210314T100000
END:DAYLIGHT
BEGIN:STANDARD
TZOFFSETFROM:-0700
TZOFFSETTO:-0800
TZNAME:PST
DTSTART:20211107T090000
END:STANDARD
BEGIN:DAYLIGHT
TZOFFSETFROM:-0800
TZOFFSETTO:-0700
TZNAME:PDT
DTSTART:20220313T100000
END:DAYLIGHT
BEGIN:STANDARD
TZOFFSETFROM:-0700
TZOFFSETTO:-0800
TZNAME:PST
DTSTART:20221106T090000
END:STANDARD
BEGIN:DAYLIGHT
TZOFFSETFROM:-0800
TZOFFSETTO:-0700
TZNAME:PDT
DTSTART:20230312T100000
END:DAYLIGHT
BEGIN:STANDARD
TZOFFSETFROM:-0700
TZOFFSETTO:-0800
TZNAME:PST
DTSTART:20231105T090000
END:STANDARD
END:VTIMEZONE
BEGIN:VEVENT
DTSTART;TZID=America/Los_Angeles:20221023T130000
DTEND;TZID=America/Los_Angeles:20221023T170000
DTSTAMP:20260425T064359
CREATED:20220911T231631Z
LAST-MODIFIED:20220911T231631Z
UID:25785-1666530000-1666544400@spdj.org
SUMMARY:Carl Sonny Leyland
DESCRIPTION:
URL:http://spdj.org/index.php/event/carl-sonny-leyland/
LOCATION:Duarte Elks Lodge\, 2436 Huntington Drive\, Duarte\, CA\, 91010\, United States
END:VEVENT
BEGIN:VEVENT
DTSTART;TZID=America/Los_Angeles:20220925T130000
DTEND;TZID=America/Los_Angeles:20220925T170000
DTSTAMP:20260425T064359
CREATED:20220911T231117Z
LAST-MODIFIED:20220911T231409Z
UID:25779-1664110800-1664125200@spdj.org
SUMMARY:Jumpin' Joz
DESCRIPTION: 
URL:http://spdj.org/index.php/event/jumpin-joz/
LOCATION:Duarte Elks Lodge\, 2436 Huntington Drive\, Duarte\, CA\, 91010\, United States
END:VEVENT
BEGIN:VEVENT
DTSTART;TZID=America/Los_Angeles:20220828T130000
DTEND;TZID=America/Los_Angeles:20220828T170000
DTSTAMP:20260425T064359
CREATED:20220824T150355Z
LAST-MODIFIED:20220824T150355Z
UID:25342-1661691600-1661706000@spdj.org
SUMMARY:The Pepper Moons
DESCRIPTION:The Society for the Preservation of Dixieland Jazz is excited to announce our August feature band – The Pepper Moons\, Sunday\, August 28th – music starts at 1 and goes until 5. Door admission is $8 members/$15 nonmembers (but it’s only $20 to become a member!). Musicians bring your instruments – dancers bring your dancing shoes! \n 
URL:http://spdj.org/index.php/event/the-pepper-moons/
LOCATION:Duarte Elks Lodge\, 2436 Huntington Drive\, Duarte\, CA\, 91010\, United States
END:VEVENT
BEGIN:VEVENT
DTSTART;TZID=America/Los_Angeles:20220724T130000
DTEND;TZID=America/Los_Angeles:20220724T170000
DTSTAMP:20260425T064359
CREATED:20220717T160121Z
LAST-MODIFIED:20220717T160121Z
UID:23576-1658667600-1658682000@spdj.org
SUMMARY:Hugh von Kleist's "The good notes jass band" with Sylvia Rodriguez
DESCRIPTION:The Society for the Preservation of Dixieland Jazz is excited to announce our July feature band – Hugh von Kleist’s “The good notes jass band” with Sylvia Rodriguez\, Sunday\, July 24th – music starts at 1 and goes until 5. Door admission is $8 members/$15 nonmembers (but it’s only $20 to become a member!). Musicians bring your instruments – dancers bring your dancing shoes!
URL:http://spdj.org/index.php/event/hugh-von-kleists-the-good-notes-jass-band-with-sylvia-rodriguez/
LOCATION:Duarte Elks Lodge\, 2436 Huntington Drive\, Duarte\, CA\, 91010\, United States
END:VEVENT
BEGIN:VEVENT
DTSTART;TZID=America/Los_Angeles:20220626T130000
DTEND;TZID=America/Los_Angeles:20220626T170000
DTSTAMP:20260425T064359
CREATED:20220615T182741Z
LAST-MODIFIED:20220615T182741Z
UID:21760-1656248400-1656262800@spdj.org
SUMMARY:Night Blooming Jazzmen
DESCRIPTION:Society for the Preservation of Dixieland Jazz is excited to announce our feature band for June 26th – The Night Blooming Jazzmen! This is the first appearance by the reconfigured band\, since Chet has passed. We are so honored to have this beloved band back with SPDJ! Local musicians play various sets between 1:00 and 3:00 pm; feature band plays an hour set\, and local musicians again take the stage until 5:00 pm. If you are a musician bring your instrument\, dancers bring your dancing shoes\, music lovers bring your happy ears!! \n 
URL:http://spdj.org/index.php/event/night-blooming-jazzmen/
LOCATION:Duarte Elks Lodge\, 2436 Huntington Drive\, Duarte\, CA\, 91010\, United States
END:VEVENT
BEGIN:VEVENT
DTSTART;TZID=America/Los_Angeles:20220522T130000
DTEND;TZID=America/Los_Angeles:20220522T170000
DTSTAMP:20260425T064359
CREATED:20220503T044921Z
LAST-MODIFIED:20220503T044921Z
UID:18745-1653224400-1653238800@spdj.org
SUMMARY:Ginger & The Hoosier Daddys
DESCRIPTION:Society for the Preservation of Dixieland Jazz is excited to present our May feature band\, Ginger & The Hoosier Daddys! Sunday\, 5/22/22\, Music starts at 1:00 and continues until 5:00\, Duarte Elks Lodge\, 2436 Huntington Dr\, Duarte\, CA. Admission $8/members $15/nonmembers. (it’s only $20 to become a member and your visit is free the day you join!) #SPDJ #Dixielandjazz #Traditionaljazz \n 
URL:http://spdj.org/index.php/event/ginger-the-hoosier-daddys/
LOCATION:Duarte Elks Lodge\, 2436 Huntington Drive\, Duarte\, CA\, 91010\, United States
END:VEVENT
BEGIN:VEVENT
DTSTART;TZID=America/Los_Angeles:20220424T130000
DTEND;TZID=America/Los_Angeles:20220424T170000
DTSTAMP:20260425T064359
CREATED:20220419T043901Z
LAST-MODIFIED:20220419T043901Z
UID:17494-1650805200-1650819600@spdj.org
SUMMARY:Jonathan Stout and his Campus Five\, featuring Hilary Alexander
DESCRIPTION:Society for the Preservation of Dixieland Jazz is thrilled to announce that Jonathan Stout and his Campus Five\, featuring Hilary Alexander will be our feature band\, April 24th. Music sets begin at 1:00. Door admission is $8/members\, $15/nonmembers (becoming a member is only $20 and your first visit is free). We meet every 4th Sunday at Duarte Elks Lodge at 1:00 pm. Bring your dancing shoes! 
URL:http://spdj.org/index.php/event/jonathan-stout-and-his-campus-five-featuring-hilary-alexander/
LOCATION:Duarte Elks Lodge\, 2436 Huntington Drive\, Duarte\, CA\, 91010\, United States
END:VEVENT
BEGIN:VEVENT
DTSTART;TZID=America/Los_Angeles:20220327T130000
DTEND;TZID=America/Los_Angeles:20220327T170000
DTSTAMP:20260425T064359
CREATED:20220306T160145Z
LAST-MODIFIED:20220306T160145Z
UID:13374-1648386000-1648400400@spdj.org
SUMMARY:California Feetwarmers
DESCRIPTION:The Society for the Preservation of Dixieland Jazz is very proud to announce our feature band for our session on March 27th – the California Feetwarmers! We are extremely excited for this performance! \nWe meet every 4th Sunday at Duarte Elks Lodge\, 2436 Huntington Blvd\, Duarte\, CA\, between 1:00-5:00. We invite all of you to come out and enjoy! Door admission is $8 for members\, $15 for nonmembers (but it’s only $20 to become a member!) Plenty of space for dancing\, and food and drinks are available for purchase.
URL:http://spdj.org/index.php/event/california-feetwarmers/
LOCATION:Duarte Elks Lodge\, 2436 Huntington Drive\, Duarte\, CA\, 91010\, United States
END:VEVENT
BEGIN:VEVENT
DTSTART;TZID=America/Los_Angeles:20220227T130000
DTEND;TZID=America/Los_Angeles:20220227T170000
DTSTAMP:20260425T064359
CREATED:20220211T042028Z
LAST-MODIFIED:20220211T042028Z
UID:11227-1645966800-1645981200@spdj.org
SUMMARY:Dave Stuckey and the Hot House Gang
DESCRIPTION:
URL:http://spdj.org/index.php/event/dave-stuckey-and-the-hot-house-gang/
LOCATION:Duarte Elks Lodge\, 2436 Huntington Drive\, Duarte\, CA\, 91010\, United States
END:VEVENT
BEGIN:VEVENT
DTSTART;TZID=America/Los_Angeles:20220123T130000
DTEND;TZID=America/Los_Angeles:20220123T170000
DTSTAMP:20260425T064359
CREATED:20220115T202251Z
LAST-MODIFIED:20220115T202251Z
UID:9517-1642942800-1642957200@spdj.org
SUMMARY:Danny Freyer & the Red Hot Flyers
DESCRIPTION:
URL:http://spdj.org/index.php/event/danny-freyer-the-red-hot-flyers/
LOCATION:Duarte Elks Lodge\, 2436 Huntington Drive\, Duarte\, CA\, 91010\, United States
END:VEVENT
BEGIN:VEVENT
DTSTART;TZID=America/Los_Angeles:20211226T130000
DTEND;TZID=America/Los_Angeles:20211226T170000
DTSTAMP:20260425T064359
CREATED:20211214T030855Z
LAST-MODIFIED:20211214T030947Z
UID:7981-1640523600-1640538000@spdj.org
SUMMARY:Corey's Dixiebop Quartet
DESCRIPTION:Looking for something to do to polish off the perfect Christmas weekend?  Corey’s Dixiebop Quartet will be SPDJ feature band Sunday\, 12/26/21\, 1:00-5:00\, Duarte Elks Lodge\, 2436 Huntington Dr\, Duarte\, CA.  Admission $8/members $15/nonmembers.  #SPDJ #Dixielandjazz #Tradjazz #Dixiebop \n 
URL:http://spdj.org/index.php/event/coreys-dixiebop-quartet/
LOCATION:Duarte Elks Lodge\, 2436 Huntington Drive\, Duarte\, CA\, 91010\, United States
END:VEVENT
BEGIN:VEVENT
DTSTART;TZID=America/Los_Angeles:20211128T130000
DTEND;TZID=America/Los_Angeles:20211128T170000
DTSTAMP:20260425T064359
CREATED:20211103T212513Z
LAST-MODIFIED:20211103T212713Z
UID:6737-1638104400-1638118800@spdj.org
SUMMARY:SPDJ Monthly Dance/Concert - Sylvia and the Rhythm Boys
DESCRIPTION:
URL:http://spdj.org/index.php/event/spdj-monthly-dance-concert-sylvia-and-the-rhythm-boys/
LOCATION:Duarte Elks Lodge\, 2436 Huntington Drive\, Duarte\, CA\, 91010\, United States
END:VEVENT
BEGIN:VEVENT
DTSTART;TZID=America/Los_Angeles:20211024T130000
DTEND;TZID=America/Los_Angeles:20211024T170000
DTSTAMP:20260425T064359
CREATED:20210707T005820Z
LAST-MODIFIED:20211023T164741Z
UID:6394-1635080400-1635094800@spdj.org
SUMMARY:SPDJ Monthly Dance/Concert - Jonathan Stout and his Campus 5
DESCRIPTION:Society for the Preservation of Dixieland Jazz is proud to present Jonathan Stout and his Campus 5\, Oct 24\, 2021 from 1:00-5:00 pm at the Duarte Elks Lodge!
URL:http://spdj.org/index.php/event/spdj-monthly-dance-concert-ginger-pauley-and-the-hoosier-daddys/
LOCATION:Duarte Elks Lodge\, 2436 Huntington Drive\, Duarte\, CA\, 91010\, United States
END:VEVENT
BEGIN:VEVENT
DTSTART;TZID=America/Los_Angeles:20210926T130000
DTEND;TZID=America/Los_Angeles:20210926T170000
DTSTAMP:20260425T064359
CREATED:20210707T005956Z
LAST-MODIFIED:20210707T005956Z
UID:6396-1632661200-1632675600@spdj.org
SUMMARY:SPDJ Monthly Dance/Concert - Night Blooming Jazzmen & 60th Anniversary Party
DESCRIPTION:
URL:http://spdj.org/index.php/event/spdj-monthly-dance-concert-night-blooming-jazzmen-60th-anniversary-party/
LOCATION:Duarte Elks Lodge\, 2436 Huntington Drive\, Duarte\, CA\, 91010\, United States
END:VEVENT
BEGIN:VEVENT
DTSTART;TZID=America/Los_Angeles:20210725T130000
DTEND;TZID=America/Los_Angeles:20210725T170000
DTSTAMP:20260425T064359
CREATED:20210509T043040Z
LAST-MODIFIED:20210706T172707Z
UID:4705-1627218000-1627232400@spdj.org
SUMMARY:SPDJ Monthly Concert/Dance - Feature Band 'The South Burgundy Street Jazz Band"
DESCRIPTION:
URL:http://spdj.org/index.php/event/spdj-monthly-general-meeting-2/
LOCATION:Duarte Elks Lodge\, 2436 Huntington Drive\, Duarte\, CA\, 91010\, United States
END:VEVENT
BEGIN:VEVENT
DTSTART;TZID=America/Los_Angeles:20210627T130000
DTEND;TZID=America/Los_Angeles:20210627T170000
DTSTAMP:20260425T064359
CREATED:20210509T050326Z
LAST-MODIFIED:20210611T163411Z
UID:4709-1624798800-1624813200@spdj.org
SUMMARY:SPDJ Monthly Concert/Dance - Feature Band is Dave Stuckey & the Hot House Gang
DESCRIPTION:Dave Stuckey & The Hot House Gang are a freewheeling aggregation that stomps and swings the standards (and not-so-standards) of the 1920s & 30s…think Fats Waller & Wingy Manone arm wrestling Eddie Condon on 52nd Street after hours. With tunes both vintage and original\, If you’ve come to beat your feet – or merely give your ears a treat\, The Hot House Gang is your cure for rhythm deficiency! \n  \n 
URL:http://spdj.org/index.php/event/spdj-monthly-general-meeting-3/
LOCATION:Duarte Elks Lodge\, 2436 Huntington Drive\, Duarte\, CA\, 91010\, United States
END:VEVENT
BEGIN:VEVENT
DTSTART;TZID=America/Los_Angeles:20210523T130000
DTEND;TZID=America/Los_Angeles:20210523T170000
DTSTAMP:20260425T064359
CREATED:20210509T042846Z
LAST-MODIFIED:20210509T042846Z
UID:4703-1621774800-1621789200@spdj.org
SUMMARY:SPDJ Monthly General Meeting
DESCRIPTION:
URL:http://spdj.org/index.php/event/spdj-monthly-general-meeting/
LOCATION:Duarte Elks Lodge\, 2436 Huntington Drive\, Duarte\, CA\, 91010\, United States
END:VEVENT
BEGIN:VEVENT
DTSTART;TZID=America/Los_Angeles:20200501T170000
DTEND;TZID=America/Los_Angeles:20200501T200000
DTSTAMP:20260425T064359
CREATED:20200211T052858Z
LAST-MODIFIED:20200211T053700Z
UID:1873-1588352400-1588363200@spdj.org
SUMMARY:Cherry Willow Jazz Band at Curleys
DESCRIPTION:
URL:http://spdj.org/index.php/event/cherry-willow-jazz-band-at-curleys-6/
LOCATION:Curleys\, 1999 E. Willow\, Signal Hill\, CA\, United States
ATTACH;FMTTYPE=image/png:http://spdj.org/wp-content/uploads/2020/02/Facebook.png
END:VEVENT
BEGIN:VEVENT
DTSTART;TZID=America/Los_Angeles:20200426T130000
DTEND;TZID=America/Los_Angeles:20200426T170000
DTSTAMP:20260425T064359
CREATED:20200211T041049Z
LAST-MODIFIED:20200211T042316Z
UID:1854-1587906000-1587920400@spdj.org
SUMMARY:SPDJ Presents Night Blooming Jazzmen
DESCRIPTION:
URL:http://spdj.org/index.php/event/spdj-presents-night-blooming-jazzmen/
LOCATION:Duarte Elks Lodge\, 2436 Huntington Drive\, Duarte\, CA\, 91010\, United States
ATTACH;FMTTYPE=image/jpeg:http://spdj.org/wp-content/uploads/2020/02/RedJackets2018-2_MainPage.jpg
END:VEVENT
BEGIN:VEVENT
DTSTART;TZID=America/Los_Angeles:20200419T120000
DTEND;TZID=America/Los_Angeles:20200419T170000
DTSTAMP:20260425T064359
CREATED:20200211T041152Z
LAST-MODIFIED:20200211T041152Z
UID:1857-1587297600-1587315600@spdj.org
SUMMARY:NOJCSC
DESCRIPTION:
URL:http://spdj.org/index.php/event/nojcsc-4/
LOCATION:CA
END:VEVENT
BEGIN:VEVENT
DTSTART;TZID=America/Los_Angeles:20200327T170000
DTEND;TZID=America/Los_Angeles:20200327T200000
DTSTAMP:20260425T064359
CREATED:20200211T053055Z
LAST-MODIFIED:20200211T053055Z
UID:1877-1585328400-1585339200@spdj.org
SUMMARY:Cherry Willow Jazz Band at Curleys
DESCRIPTION:
URL:http://spdj.org/index.php/event/cherry-willow-jazz-band-at-curleys-8/
LOCATION:Curleys\, 1999 E. Willow\, Signal Hill\, CA\, United States
ATTACH;FMTTYPE=image/png:http://spdj.org/wp-content/uploads/2020/02/Facebook.png
END:VEVENT
BEGIN:VEVENT
DTSTART;TZID=America/Los_Angeles:20200322T130000
DTEND;TZID=America/Los_Angeles:20200322T170000
DTSTAMP:20260425T064359
CREATED:20200211T040639Z
LAST-MODIFIED:20200211T042234Z
UID:1849-1584882000-1584896400@spdj.org
SUMMARY:SPDJ Presents Nate Kentner Quartet
DESCRIPTION:
URL:http://spdj.org/index.php/event/spdj-presents-kent-kentner-quartet/
LOCATION:Duarte Elks Lodge\, 2436 Huntington Drive\, Duarte\, CA\, 91010\, United States
END:VEVENT
BEGIN:VEVENT
DTSTART;TZID=America/Los_Angeles:20200320T170000
DTEND;TZID=America/Los_Angeles:20200320T200000
DTSTAMP:20260425T064359
CREATED:20200211T052956Z
LAST-MODIFIED:20200211T052956Z
UID:1875-1584723600-1584734400@spdj.org
SUMMARY:Cherry Willow Jazz Band at Curleys
DESCRIPTION:
URL:http://spdj.org/index.php/event/cherry-willow-jazz-band-at-curleys-7/
LOCATION:Curleys\, 1999 E. Willow\, Signal Hill\, CA\, United States
ATTACH;FMTTYPE=image/png:http://spdj.org/wp-content/uploads/2020/02/Facebook.png
END:VEVENT
BEGIN:VEVENT
DTSTART;TZID=America/Los_Angeles:20200315T120000
DTEND;TZID=America/Los_Angeles:20200315T170000
DTSTAMP:20260425T064359
CREATED:20200211T040747Z
LAST-MODIFIED:20200211T040747Z
UID:1852-1584273600-1584291600@spdj.org
SUMMARY:NOJCSC
DESCRIPTION:
URL:http://spdj.org/index.php/event/nojcsc-3/
LOCATION:CA
END:VEVENT
BEGIN:VEVENT
DTSTART;TZID=America/Los_Angeles:20200313T170000
DTEND;TZID=America/Los_Angeles:20200313T200000
DTSTAMP:20260425T064359
CREATED:20200211T052755Z
LAST-MODIFIED:20200211T052755Z
UID:1871-1584118800-1584129600@spdj.org
SUMMARY:Cherry Willow Jazz Band at Curleys
DESCRIPTION:
URL:http://spdj.org/index.php/event/cherry-willow-jazz-band-at-curleys-5/
LOCATION:Curleys\, 1999 E. Willow\, Signal Hill\, CA\, United States
ATTACH;FMTTYPE=image/png:http://spdj.org/wp-content/uploads/2020/02/Facebook.png
END:VEVENT
BEGIN:VEVENT
DTSTART;TZID=America/Los_Angeles:20200306T170000
DTEND;TZID=America/Los_Angeles:20200306T200000
DTSTAMP:20260425T064359
CREATED:20200211T052647Z
LAST-MODIFIED:20200211T052647Z
UID:1869-1583514000-1583524800@spdj.org
SUMMARY:Cherry Willow Jazz Band at Curleys
DESCRIPTION:
URL:http://spdj.org/index.php/event/cherry-willow-jazz-band-at-curleys-4/
LOCATION:Curleys\, 1999 E. Willow\, Signal Hill\, CA\, United States
ATTACH;FMTTYPE=image/png:http://spdj.org/wp-content/uploads/2020/02/Facebook.png
END:VEVENT
BEGIN:VEVENT
DTSTART;TZID=America/Los_Angeles:20200228T170000
DTEND;TZID=America/Los_Angeles:20200228T200000
DTSTAMP:20260425T064359
CREATED:20200211T042033Z
LAST-MODIFIED:20200211T042033Z
UID:1865-1582909200-1582920000@spdj.org
SUMMARY:Cherry Willow Jazz Band at Curleys
DESCRIPTION:
URL:http://spdj.org/index.php/event/cherry-willow-jazz-band-at-curleys-3/
LOCATION:CA
ATTACH;FMTTYPE=image/png:http://spdj.org/wp-content/uploads/2020/02/Facebook.png
END:VEVENT
BEGIN:VEVENT
DTSTART;TZID=America/Los_Angeles:20200223T130000
DTEND;TZID=America/Los_Angeles:20200223T170000
DTSTAMP:20260425T064359
CREATED:20200211T035340Z
LAST-MODIFIED:20200211T042128Z
UID:1843-1582462800-1582477200@spdj.org
SUMMARY:SPDJ Presents South Burgundy Street Jazz Band
DESCRIPTION:
URL:http://spdj.org/index.php/event/spdj-presents-south-burgundy-street-jazz-band/
LOCATION:Duarte Elks Lodge\, 2436 Huntington Drive\, Duarte\, CA\, 91010\, United States
ATTACH;FMTTYPE=image/png:http://spdj.org/wp-content/uploads/2020/02/society-for-the-preservation-of-dixieland-jazz-presents6.png
ORGANIZER;CN="Rusty":MAILTO:spdjinfo@yahoo.com
END:VEVENT
BEGIN:VEVENT
DTSTART;TZID=America/Los_Angeles:20200221T170000
DTEND;TZID=America/Los_Angeles:20200221T200000
DTSTAMP:20260425T064359
CREATED:20200211T041859Z
LAST-MODIFIED:20200211T041859Z
UID:1863-1582304400-1582315200@spdj.org
SUMMARY:Cherry Willow Jazz Band at Curleys
DESCRIPTION:
URL:http://spdj.org/index.php/event/cherry-willow-jazz-band-at-curleys-2/
LOCATION:CA
ATTACH;FMTTYPE=image/png:http://spdj.org/wp-content/uploads/2020/02/Facebook.png
END:VEVENT
BEGIN:VEVENT
DTSTART;TZID=America/Los_Angeles:20200216T120000
DTEND;TZID=America/Los_Angeles:20200216T170000
DTSTAMP:20260425T064359
CREATED:20200211T035702Z
LAST-MODIFIED:20200211T035702Z
UID:1847-1581854400-1581872400@spdj.org
SUMMARY:NOJCSC
DESCRIPTION:  \n\n\nNOJCSC’s next meeting will be on February 16\, 2020. \n\nThe club meets the third Sunday of every month from noon to 5 PM at:\nWestminster Lanes\n6471 Westminster Ave.\nWestminster\, CA 92683\n\n\n 
URL:http://spdj.org/index.php/event/nojcsc-2/
LOCATION:CA
END:VEVENT
END:VCALENDAR