BEGIN:VCALENDAR
VERSION:2.0
PRODID:-//Society for the Preservation of Dixieland Jazz - ECPv6.15.20//NONSGML v1.0//EN
CALSCALE:GREGORIAN
METHOD:PUBLISH
X-WR-CALNAME:Society for the Preservation of Dixieland Jazz
X-ORIGINAL-URL:http://spdj.org
X-WR-CALDESC:Events for Society for the Preservation of Dixieland Jazz
REFRESH-INTERVAL;VALUE=DURATION:PT1H
X-Robots-Tag:noindex
X-PUBLISHED-TTL:PT1H
BEGIN:VTIMEZONE
TZID:America/Los_Angeles
BEGIN:DAYLIGHT
TZOFFSETFROM:-0800
TZOFFSETTO:-0700
TZNAME:PDT
DTSTART:20180311T100000
END:DAYLIGHT
BEGIN:STANDARD
TZOFFSETFROM:-0700
TZOFFSETTO:-0800
TZNAME:PST
DTSTART:20181104T090000
END:STANDARD
BEGIN:DAYLIGHT
TZOFFSETFROM:-0800
TZOFFSETTO:-0700
TZNAME:PDT
DTSTART:20190310T100000
END:DAYLIGHT
BEGIN:STANDARD
TZOFFSETFROM:-0700
TZOFFSETTO:-0800
TZNAME:PST
DTSTART:20191103T090000
END:STANDARD
BEGIN:DAYLIGHT
TZOFFSETFROM:-0800
TZOFFSETTO:-0700
TZNAME:PDT
DTSTART:20200308T100000
END:DAYLIGHT
BEGIN:STANDARD
TZOFFSETFROM:-0700
TZOFFSETTO:-0800
TZNAME:PST
DTSTART:20201101T090000
END:STANDARD
END:VTIMEZONE
BEGIN:VEVENT
DTSTART;TZID=America/Los_Angeles:20190913T170000
DTEND;TZID=America/Los_Angeles:20190913T200000
DTSTAMP:20260425T064424
CREATED:20190905T163505Z
LAST-MODIFIED:20190905T163505Z
UID:752-1568394000-1568404800@spdj.org
SUMMARY:Cherry Willow Jazz Band
DESCRIPTION:Curleys – corner of Cherry and Willow in Signal Hill 5:00 to 8:00 Friday nights – free to public
URL:http://spdj.org/index.php/event/cherry-willow-jazz-band-2/
LOCATION:Curleys\, 1999 E. Willow\, Signal Hill\, CA\, United States
END:VEVENT
BEGIN:VEVENT
DTSTART;TZID=America/Los_Angeles:20190906T170000
DTEND;TZID=America/Los_Angeles:20190906T200000
DTSTAMP:20260425T064424
CREATED:20190905T163311Z
LAST-MODIFIED:20190905T163311Z
UID:750-1567789200-1567800000@spdj.org
SUMMARY:Cherry Willow Jazz Band
DESCRIPTION:Curleys – corner of Cherry and Willow in Signal Hill 5:00 to 8:00 Friday nights – free to public
URL:http://spdj.org/index.php/event/cherry-willow-jazz-band/
LOCATION:Curleys\, 1999 E. Willow\, Signal Hill\, CA\, United States
END:VEVENT
BEGIN:VEVENT
DTSTART;TZID=America/Los_Angeles:20190830T080000
DTEND;TZID=America/Los_Angeles:20190902T170000
DTSTAMP:20260425T064424
CREATED:20190824T031233Z
LAST-MODIFIED:20190824T031233Z
UID:653-1567152000-1567443600@spdj.org
SUMMARY:Hot Jazz Jubilee
DESCRIPTION:
URL:http://spdj.org/index.php/event/hot-jazz-jubilee/
LOCATION:DoubleTree by Hilton in Sacramento\, Sacramento\, CA\, United States
END:VEVENT
BEGIN:VEVENT
DTSTART;TZID=America/Los_Angeles:20190825T130000
DTEND;TZID=America/Los_Angeles:20190825T170000
DTSTAMP:20260425T064424
CREATED:20190822T081119Z
LAST-MODIFIED:20190822T044634Z
UID:143-1566738000-1566752400@spdj.org
SUMMARY:SPDJ General Meeting
DESCRIPTION:August 2019 Mail flyer
URL:http://spdj.org/index.php/event/spdj-general-meeting/
LOCATION:Duarte Elks Lodge\, 2436 Huntington Drive\, Duarte\, CA\, 91010\, United States
END:VEVENT
END:VCALENDAR