BEGIN:VCALENDAR
VERSION:2.0
PRODID:-//Society for the Preservation of Dixieland Jazz - ECPv6.15.20//NONSGML v1.0//EN
CALSCALE:GREGORIAN
METHOD:PUBLISH
X-WR-CALNAME:Society for the Preservation of Dixieland Jazz
X-ORIGINAL-URL:http://spdj.org
X-WR-CALDESC:Events for Society for the Preservation of Dixieland Jazz
REFRESH-INTERVAL;VALUE=DURATION:PT1H
X-Robots-Tag:noindex
X-PUBLISHED-TTL:PT1H
BEGIN:VTIMEZONE
TZID:America/Los_Angeles
BEGIN:DAYLIGHT
TZOFFSETFROM:-0800
TZOFFSETTO:-0700
TZNAME:PDT
DTSTART:20230312T100000
END:DAYLIGHT
BEGIN:STANDARD
TZOFFSETFROM:-0700
TZOFFSETTO:-0800
TZNAME:PST
DTSTART:20231105T090000
END:STANDARD
BEGIN:DAYLIGHT
TZOFFSETFROM:-0800
TZOFFSETTO:-0700
TZNAME:PDT
DTSTART:20240310T100000
END:DAYLIGHT
BEGIN:STANDARD
TZOFFSETFROM:-0700
TZOFFSETTO:-0800
TZNAME:PST
DTSTART:20241103T090000
END:STANDARD
BEGIN:DAYLIGHT
TZOFFSETFROM:-0800
TZOFFSETTO:-0700
TZNAME:PDT
DTSTART:20250309T100000
END:DAYLIGHT
BEGIN:STANDARD
TZOFFSETFROM:-0700
TZOFFSETTO:-0800
TZNAME:PST
DTSTART:20251102T090000
END:STANDARD
END:VTIMEZONE
BEGIN:VEVENT
DTSTART;TZID=America/Los_Angeles:20241027T130000
DTEND;TZID=America/Los_Angeles:20241027T170000
DTSTAMP:20260425T120923
CREATED:20241022T142454Z
LAST-MODIFIED:20241022T144521Z
UID:26498-1730034000-1730048400@spdj.org
SUMMARY:Pepper Moons
DESCRIPTION:Society for the Preservation of Dixieland Jazz is excited to announce our feature band for Sunday\, 27 October 2024 is the Pepper Moons! We meet at Arcadia Elks Lodge\, 27 W Huntington\, in Arcadia between 1:00 and 5:00. Local musicians play sets between 1:00 and 3:00\, feature band takes the stage at 3:00 and local musicians finish out the day until 5:00. Door admission is $10 for members/$15 for nonmembers. Hope to see you there! We have a wooden dance floor\, a raffle\, and snacks and drinks are available for purchase. See you there!\n\n\n\n\n\nIf you’d like to participate in our annual sock drive for the homeless\, please bring a new pair of socks to donate!
URL:http://spdj.org/index.php/event/pepper-moons-2/
LOCATION:arcadia elks lodge\, 27 W Huntington Dr\, Arcadia\, CA\, 91007\, United States
END:VEVENT
END:VCALENDAR