BEGIN:VCALENDAR
VERSION:2.0
PRODID:-//Society for the Preservation of Dixieland Jazz - ECPv6.15.20//NONSGML v1.0//EN
CALSCALE:GREGORIAN
METHOD:PUBLISH
X-ORIGINAL-URL:http://spdj.org
X-WR-CALDESC:Events for Society for the Preservation of Dixieland Jazz
REFRESH-INTERVAL;VALUE=DURATION:PT1H
X-Robots-Tag:noindex
X-PUBLISHED-TTL:PT1H
BEGIN:VTIMEZONE
TZID:America/Los_Angeles
BEGIN:DAYLIGHT
TZOFFSETFROM:-0800
TZOFFSETTO:-0700
TZNAME:PDT
DTSTART:20240310T100000
END:DAYLIGHT
BEGIN:STANDARD
TZOFFSETFROM:-0700
TZOFFSETTO:-0800
TZNAME:PST
DTSTART:20241103T090000
END:STANDARD
BEGIN:DAYLIGHT
TZOFFSETFROM:-0800
TZOFFSETTO:-0700
TZNAME:PDT
DTSTART:20250309T100000
END:DAYLIGHT
BEGIN:STANDARD
TZOFFSETFROM:-0700
TZOFFSETTO:-0800
TZNAME:PST
DTSTART:20251102T090000
END:STANDARD
BEGIN:DAYLIGHT
TZOFFSETFROM:-0800
TZOFFSETTO:-0700
TZNAME:PDT
DTSTART:20260308T100000
END:DAYLIGHT
BEGIN:STANDARD
TZOFFSETFROM:-0700
TZOFFSETTO:-0800
TZNAME:PST
DTSTART:20261101T090000
END:STANDARD
END:VTIMEZONE
BEGIN:VEVENT
DTSTART;TZID=America/Los_Angeles:20250824T130000
DTEND;TZID=America/Los_Angeles:20250824T170000
DTSTAMP:20260424T204425
CREATED:20250819T013606Z
LAST-MODIFIED:20250819T013606Z
UID:26628-1756040400-1756054800@spdj.org
SUMMARY:Jumpin Joz'
DESCRIPTION:SPDJ is proud to present Jumpin’ Joz as our feature band August 24\, 2025! \n 
URL:http://spdj.org/index.php/event/jumpin-joz-4/
LOCATION:arcadia elks lodge\, 27 W Huntington Dr\, Arcadia\, CA\, 91007\, United States
END:VEVENT
END:VCALENDAR