BEGIN:VCALENDAR
VERSION:2.0
PRODID:-//Society for the Preservation of Dixieland Jazz - ECPv6.15.20//NONSGML v1.0//EN
CALSCALE:GREGORIAN
METHOD:PUBLISH
X-WR-CALNAME:Society for the Preservation of Dixieland Jazz
X-ORIGINAL-URL:http://spdj.org
X-WR-CALDESC:Events for Society for the Preservation of Dixieland Jazz
REFRESH-INTERVAL;VALUE=DURATION:PT1H
X-Robots-Tag:noindex
X-PUBLISHED-TTL:PT1H
BEGIN:VTIMEZONE
TZID:America/Los_Angeles
BEGIN:DAYLIGHT
TZOFFSETFROM:-0800
TZOFFSETTO:-0700
TZNAME:PDT
DTSTART:20240310T100000
END:DAYLIGHT
BEGIN:STANDARD
TZOFFSETFROM:-0700
TZOFFSETTO:-0800
TZNAME:PST
DTSTART:20241103T090000
END:STANDARD
BEGIN:DAYLIGHT
TZOFFSETFROM:-0800
TZOFFSETTO:-0700
TZNAME:PDT
DTSTART:20250309T100000
END:DAYLIGHT
BEGIN:STANDARD
TZOFFSETFROM:-0700
TZOFFSETTO:-0800
TZNAME:PST
DTSTART:20251102T090000
END:STANDARD
BEGIN:DAYLIGHT
TZOFFSETFROM:-0800
TZOFFSETTO:-0700
TZNAME:PDT
DTSTART:20260308T100000
END:DAYLIGHT
BEGIN:STANDARD
TZOFFSETFROM:-0700
TZOFFSETTO:-0800
TZNAME:PST
DTSTART:20261101T090000
END:STANDARD
END:VTIMEZONE
BEGIN:VEVENT
DTSTART;TZID=America/Los_Angeles:20251228T130000
DTEND;TZID=America/Los_Angeles:20251228T170000
DTSTAMP:20260424T141924
CREATED:20251111T225726Z
LAST-MODIFIED:20251111T231309Z
UID:26675-1766926800-1766941200@spdj.org
SUMMARY:Baldy Mountain Jazz Band
DESCRIPTION:Society for the Preservation of Dixieland Jazz is very excited for our December feature band\, Baldy Mountain Jazz Band\, December 28\, 2025! \n\n\n\nLocal musicians play various sets between 1:00 and 3:00 pm; feature band plays an hour set\, and local musicians again take the stage until 5:00 pm. \n\n\n\nIf you are a musician bring your instrument\, dancers bring your dancing shoes\, music lovers bring your happy ears!! \n 
URL:http://spdj.org/index.php/event/baldy-mountain-jazz-band-2/
LOCATION:CA
END:VEVENT
END:VCALENDAR