BEGIN:VCALENDAR
VERSION:2.0
PRODID:-//Society for the Preservation of Dixieland Jazz - ECPv6.15.20//NONSGML v1.0//EN
CALSCALE:GREGORIAN
METHOD:PUBLISH
X-ORIGINAL-URL:http://spdj.org
X-WR-CALDESC:Events for Society for the Preservation of Dixieland Jazz
REFRESH-INTERVAL;VALUE=DURATION:PT1H
X-Robots-Tag:noindex
X-PUBLISHED-TTL:PT1H
BEGIN:VTIMEZONE
TZID:America/Los_Angeles
BEGIN:DAYLIGHT
TZOFFSETFROM:-0800
TZOFFSETTO:-0700
TZNAME:PDT
DTSTART:20250309T100000
END:DAYLIGHT
BEGIN:STANDARD
TZOFFSETFROM:-0700
TZOFFSETTO:-0800
TZNAME:PST
DTSTART:20251102T090000
END:STANDARD
BEGIN:DAYLIGHT
TZOFFSETFROM:-0800
TZOFFSETTO:-0700
TZNAME:PDT
DTSTART:20260308T100000
END:DAYLIGHT
BEGIN:STANDARD
TZOFFSETFROM:-0700
TZOFFSETTO:-0800
TZNAME:PST
DTSTART:20261101T090000
END:STANDARD
BEGIN:DAYLIGHT
TZOFFSETFROM:-0800
TZOFFSETTO:-0700
TZNAME:PDT
DTSTART:20270314T100000
END:DAYLIGHT
BEGIN:STANDARD
TZOFFSETFROM:-0700
TZOFFSETTO:-0800
TZNAME:PST
DTSTART:20271107T090000
END:STANDARD
END:VTIMEZONE
BEGIN:VEVENT
DTSTART;TZID=America/Los_Angeles:20260125T130000
DTEND;TZID=America/Los_Angeles:20260125T170000
DTSTAMP:20260424T124028
CREATED:20260110T193008Z
LAST-MODIFIED:20260115T115747Z
UID:26720-1769346000-1769360400@spdj.org
SUMMARY:Dave Stuckey and the Hot House Gang
DESCRIPTION:Society for the Preservation of Dixieland Jazz is very excited for our January feature band\, Dave Stuckey and the Hot House Gang! \n\n\n\nLocal musicians play various sets between 1:00 and 3:00 pm; feature band plays an hour set\, and local musicians again take the stage until 5:00 pm. \n\n\n\nIf you are a musician bring your instrument\, dancers bring your dancing shoes\, music lovers bring your happy ears!!
URL:http://spdj.org/index.php/event/dave-stuckey-and-the-hot-house-gang-2/
LOCATION:arcadia elks lodge\, 27 W Huntington Dr\, Arcadia\, CA\, 91007\, United States
END:VEVENT
END:VCALENDAR